BEGIN:VCALENDAR
VERSION:2.0
PRODID:-//https://carerkafe.org.au///NONSGML kigkonsult.se iCalcreator 2.10.15//
METHOD:PUBLISH
BEGIN:VEVENT
UID:20190301T212242AEDT-6145f7fVLm@https://carerkafe.org.au/
DTSTAMP:20190301T102242Z
DESCRIPTION:&gt\;&gt\;Register Here&lt\;&lt\;\nThis session focuses on the 
 intergenerational trauma of family violence and how it impacts children’s 
 and young people’s development and behaviour.\nCarers will learn:\n\nwhat 
 constitutes family violence\, legal definitions\, indicators\, current sta
 tistics\, findings from the Royal Commission\nthe impact of Family Violenc
 e on children and young people from a neurobiological perspective\nchildre
 ns emotional and behavioural responses&nbsp\; following exposure to Family
  Violence\, which may persist even once children are safe\n\nPresented by:
  KidsFirst Training\n\nHosted by: Winda-Mara Aboriginal Corporation\n http
 s://carerkafe.org.au/training/all-training/event/341-family-violence-the-r
 eal-impact-on-children-heywood
DTSTART:20191119T230000Z
DTEND:20191120T030000Z
LOCATION:Winda-Mara Aboriginal Corporation (21 Scott St\, Heywood VIC 3304\
 , Australia)
SUMMARY:Family Violence: The Real Impact on Children (Heywood)
URL:https://carerkafe.org.au/training/all-training/event/341-family-violenc
 e-the-real-impact-on-children-heywood
END:VEVENT
END:VCALENDAR
