BEGIN:VCALENDAR
VERSION:2.0
PRODID:-//https://carerkafe.org.au///NONSGML kigkonsult.se iCalcreator 2.10.15//
METHOD:PUBLISH
BEGIN:VEVENT
UID:20190301T212112AEDT-0776CH6jom@https://carerkafe.org.au/
DTSTAMP:20190301T102112Z
DESCRIPTION:&gt\;&gt\;Register Here&lt\;&lt\;\nIt is difficult to navigate 
 and access relevant supports when caring for a child or young person with 
 additional needs including developmental\, disability or mental health con
 ditions.\nWith the varied support systems available\, including local\, st
 ate and federally funded initiatives\, it can be overwhelming for Carers t
 o know where to start.\nThis session will focus on understanding and acces
 sing supports under the National Disability Insurance Scheme (NDIS)\, Medi
 care and other private or government services.\nPresented by: Lancaster Co
 nsulting\n\nHosted by: Mallee Family Care\n https://carerkafe.org.au/train
 ing/all-training/event/344-from-diagnosis-to-support-the-ndis-medicare-and
 -other-support-services-mildura
DTSTART:20190726T000000Z
DTEND:20190726T043000Z
LOCATION:Mallee Family Care (122 Ninth St\, Mildura VIC 3500\, Australia)
SUMMARY:From Diagnosis to Support - the NDIS\, Medicare and other support s
 ervices  (Mildura)
URL:https://carerkafe.org.au/training/all-training/event/344-from-diagnosis
 -to-support-the-ndis-medicare-and-other-support-services-mildura
END:VEVENT
END:VCALENDAR
