BEGIN:VCALENDAR
VERSION:2.0
PRODID:-//https://carerkafe.org.au///NONSGML kigkonsult.se iCalcreator 2.10.15//
METHOD:PUBLISH
BEGIN:VEVENT
UID:20190301T212047AEDT-4699cV2zRG@https://carerkafe.org.au/
DTSTAMP:20190301T102047Z
DESCRIPTION:&gt\;&gt\;Register Here&lt\;&lt\;\nCarers will gain insight int
 o the role of risk taking in adolescent development and in the context of 
 substance use\, and understand:\n\nhow young people assess risk and make d
 ecisions\nwhy adolescents use drugs and how this relates to adolescent dev
 elopment\ndrivers of risk and how risk relates to resilience\nhow to influ
 ence the types of risks young people take and reduce potential harm.\n\nIt
  will explore why young people in care are vulnerable to using alcohol or 
 other drugs in the future and provide strategies to reduce these vulnerabi
 lities\nPresented by: YSAS\n\nHosted by: OzChild\n https://carerkafe.org.a
 u/training/all-training/event/351-understanding-risk-taking-in-adolescence
 -dandenong
DTSTART:20190717T080000Z
DTEND:20190717T110000Z
LOCATION:OzChild Dandenong New Office (Level 4\, 14-16 Mason Street Dandeno
 ng)
SUMMARY:Understanding Risk Taking in Adolescence (Dandenong)
URL:https://carerkafe.org.au/training/all-training/event/351-understanding-
 risk-taking-in-adolescence-dandenong
END:VEVENT
END:VCALENDAR
