BEGIN:VCALENDAR
VERSION:2.0
PRODID:-//https://carerkafe.org.au///NONSGML kigkonsult.se iCalcreator 2.10.15//
METHOD:PUBLISH
BEGIN:VEVENT
UID:20190301T211248AEDT-7497n6gddr@https://carerkafe.org.au/
DTSTAMP:20190301T101248Z
DESCRIPTION:&gt\;&gt\;Register Here&lt\;&lt\;\n“It is easier to build stron
 g children than repair broken men'&nbsp\; &nbsp\;~ Frederic Douglas\nBuild
 ing on this quote\, Fostering Resilience maintains that specific intervent
 ions can help to foster resilient behaviors and attitudes\, leading to muc
 h better outcomes during and after the care experience.\nThe session will 
 provide an understanding of how the trauma of the care experience can impa
 ct children and young people\, and how to counter these impacts.\nMichael 
 was raised in the out of home care sector in the USA and now\, after gaini
 ng his Masters in Trauma and Resilience\, travels the world helping carers
  develop a Fostering Resilience Action Plan.\nPresented by: Manifest with 
 Power (Michael Place)\nHosted by: Quantum Support Services\n\n\n\n https:/
 /carerkafe.org.au/training/all-training/event/358-fostering-resilience-war
 ragul
DTSTART:20190509T233000Z
DTEND:20190510T050000Z
LOCATION:Warragul Sporting and Social Club Inc (55-57 Victoria St\, Warragu
 l VIC 3820\, Australia)
SUMMARY:Fostering Resilience (Warragul)
URL:https://carerkafe.org.au/training/all-training/event/358-fostering-resi
 lience-warragul
END:VEVENT
END:VCALENDAR
