BEGIN:VCALENDAR
VERSION:2.0
PRODID:-//https://carerkafe.org.au///NONSGML kigkonsult.se iCalcreator 2.10.15//
METHOD:PUBLISH
BEGIN:VEVENT
UID:20190301T211150AEDT-5597tADVUU@https://carerkafe.org.au/
DTSTAMP:20190301T101150Z
DESCRIPTION:&gt\;&gt\;Register Here&lt\;&lt\;\nHow can I reach the young pe
 rson in crisis?\nThis session will engage carers in the topic of self-harm
  - non-suicidal self-injury and explain what it is\, why it happens and wh
 at carers can do. Garry King has a background as a teacher\, youth worker 
 and counsellor and will teach carers\;\n\nWho is most at risk?\nwhat to lo
 ok for\, signs of self harm\nstrategies to reduce self harm\nprevention st
 rategies\nprotective factors to implement\, including mindfulness\nrisk fa
 ctors\nwhat to say\, what to do\nwho to link with and when\n\nPresented by
 : Agenda 2001\nHosted by: Anglicare\n\n https://carerkafe.org.au/training/
 all-training/event/360-caring-for-young-people-who-self-harm-box-hill
DTSTART:20190404T063000Z
DTEND:20190404T103000Z
LOCATION:Anglicare Box Hill (7-11 Shipley St\, Box Hill VIC 3128\, Australi
 a)
SUMMARY:Caring for Young People who Self Harm (Box Hill)
URL:https://carerkafe.org.au/training/all-training/event/360-caring-for-you
 ng-people-who-self-harm-box-hill
END:VEVENT
END:VCALENDAR
