BEGIN:VCALENDAR
VERSION:2.0
PRODID:-//https://carerkafe.org.au///NONSGML kigkonsult.se iCalcreator 2.10.15//
METHOD:PUBLISH
BEGIN:VEVENT
UID:20190301T211947AEDT-8243uBgBGe@https://carerkafe.org.au/
DTSTAMP:20190301T101947Z
DESCRIPTION:&gt\;&gt\;Register Here&lt\;&lt\;\nThis workshop explores the i
 mportance of being in ‘thinking mind’ mode when the children you care for 
 are struggling.\nIn doing so\, Carers can accurately assess what is happen
 ing in the internal world of the child or young person at that moment\, an
 d respond in ways that will assist to reduce trauma and feelings of low se
 lf esteem.\nPractical interventions will be discussed and demonstrated.\nP
 resented by: Australian Childhood Trauma Group\n\nHosted by: Quantum Suppo
 rt Services\n https://carerkafe.org.au/training/all-training/event/363-thi
 nking-mind-reptilian-brain-leongatha
DTSTART:20191009T220000Z
DTEND:20191010T040000Z
LOCATION:Leongatha RSL (Smith St & Michael Pl\, Leongatha VIC 3953\, Austra
 lia)
SUMMARY:Thinking Mind\, Reptilian Brain (Leongatha)
URL:https://carerkafe.org.au/training/all-training/event/363-thinking-mind-
 reptilian-brain-leongatha
END:VEVENT
END:VCALENDAR
