BEGIN:VCALENDAR
VERSION:2.0
PRODID:-//https://carerkafe.org.au///NONSGML kigkonsult.se iCalcreator 2.10.15//
METHOD:PUBLISH
BEGIN:VEVENT
UID:20190301T212024AEDT-8922G1ZJCx@https://carerkafe.org.au/
DTSTAMP:20190301T102024Z
DESCRIPTION:&gt\;&gt\;Register Here&lt\;&lt\;\nFeeling out of your depth wi
 th aggressive behavior?  \nThis training will provide carers with knowledg
 e of how to prevent aggressive and violent situations\, and how to respond
  to them if they occur.\n Carers will:\n\ndiscover the key aspects of asse
 ssing aggressive behavior\nlearn how to prevent and respond to aggressive 
 and violent situations\nlearn practical strategies to manage aggressive in
 cidents\n\nPresented by: Australian Childhood Trauma Group\n\nHosted by: B
 erry Street\n https://carerkafe.org.au/training/all-training/event/367-reg
 ulating-aggressive-and-violent-emotions-2-days-noble-park
DTSTART:20190714T230000Z
DTEND:20190716T050000Z
LOCATION:Berry Street Noble Park (Level 1/500 Princes Hwy\, Noble Park Nort
 h VIC 3174\, Australia)
SUMMARY:Regulating Aggressive and Violent Emotions (2 days) (Noble Park)
URL:https://carerkafe.org.au/training/all-training/event/367-regulating-agg
 ressive-and-violent-emotions-2-days-noble-park
END:VEVENT
END:VCALENDAR
