BEGIN:VCALENDAR
VERSION:2.0
PRODID:-//https://carerkafe.org.au///NONSGML kigkonsult.se iCalcreator 2.10.15//
METHOD:PUBLISH
BEGIN:VEVENT
UID:20190301T211841AEDT-3049PNmElw@https://carerkafe.org.au/
DTSTAMP:20190301T101841Z
DESCRIPTION:&gt\;&gt\;Register Here&lt\;&lt\;\nHow children can be part of 
 two families and feel ok\nMany children and young people who live away fro
 m their biological families are able to ‘catch-up’ with them throughout th
 e year.\nCarers have an important role in supporting children and young pe
 ople with family access.&nbsp\;\nThis session will provide strategies to p
 repare and assist children and young people - so they can be part of 2 fam
 ilies and feel ok.\nPresented by: Australian Childhood Trauma Group\n\nHos
 ted by:Baptcare\n\n https://carerkafe.org.au/training/all-training/event/3
 71-divided-loyalties-sunshine
DTSTART:20190811T230000Z
DTEND:20190812T050000Z
LOCATION:Baptcare (Sunshine) (3/131 Harvester Rd\, Sunshine VIC 3020\, Aust
 ralia)
SUMMARY:Divided Loyalties (Sunshine)
URL:https://carerkafe.org.au/training/all-training/event/371-divided-loyalt
 ies-sunshine
END:VEVENT
END:VCALENDAR
