BEGIN:VCALENDAR
VERSION:2.0
PRODID:-//https://carerkafe.org.au///NONSGML kigkonsult.se iCalcreator 2.10.15//
METHOD:PUBLISH
BEGIN:VEVENT
UID:20190301T211930AEDT-07474DDKSH@https://carerkafe.org.au/
DTSTAMP:20190301T101930Z
DESCRIPTION:&gt\;&gt\;Register Here&lt\;&lt\;\n“It is easier to build stron
 g children than repair broken men'&nbsp\; &nbsp\;~ Frederic Douglas\nBuild
 ing on this quote\, Fostering Resilience maintains that specific intervent
 ions can help to foster resilient behaviors and attitudes\, leading to muc
 h better outcomes during and after the care experience.\nThe session will 
 provide an understanding of how the trauma of the care experience can impa
 ct children and young people\, and how to counter these impacts.\nMichael 
 was raised in the out of home care sector in the USA and now\, after gaini
 ng his Masters in Trauma and Resilience\, travels the world helping carers
  develop a Fostering Resilience Action Plan.\nPresented by: Manifest with 
 Power (Michael Place)\nHosted by: Baptcare\n\n https://carerkafe.org.au/tr
 aining/all-training/event/372-fostering-resilience-sunshine
DTSTART:20190908T233000Z
DTEND:20190909T050000Z
LOCATION:Baptcare (Sunshine) (3/131 Harvester Rd\, Sunshine VIC 3020\, Aust
 ralia)
SUMMARY:Fostering Resilience (Sunshine)
URL:https://carerkafe.org.au/training/all-training/event/372-fostering-resi
 lience-sunshine
END:VEVENT
END:VCALENDAR
