BEGIN:VCALENDAR
VERSION:2.0
PRODID:-//https://carerkafe.org.au///NONSGML kigkonsult.se iCalcreator 2.10.15//
METHOD:PUBLISH
BEGIN:VEVENT
UID:20190301T211009AEDT-9273f7xI2X@https://carerkafe.org.au/
DTSTAMP:20190301T101009Z
DESCRIPTION:&gt\;&gt\;Register Here&lt\;&lt\;\nHow children can be part of 
 two families and feel ok\nMany children and young people who live away fro
 m their biological families are able to ‘catch-up’ with them throughout th
 e year.\nCarers have an important role in supporting children and young pe
 ople with family access.&nbsp\;\nThis session will provide strategies to p
 repare and assist children and young people - so they can be part of 2 fam
 ilies and feel ok.\nPresented by: Australian Childhood Trauma Group\n\nHos
 ted by: CAFS\n\n\n https://carerkafe.org.au/training/all-training/event/37
 5-divided-loyalties-ballarat
DTSTART:20190327T220000Z
DTEND:20190328T040000Z
LOCATION:CAFS (115 Lydiard St N\, Ballarat Central VIC 3350\, Australia)
SUMMARY:Divided Loyalties (Ballarat)
URL:https://carerkafe.org.au/training/all-training/event/375-divided-loyalt
 ies-ballarat
END:VEVENT
END:VCALENDAR
