BEGIN:VCALENDAR
VERSION:2.0
PRODID:-//https://carerkafe.org.au///NONSGML kigkonsult.se iCalcreator 2.10.15//
METHOD:PUBLISH
BEGIN:VEVENT
UID:20190301T210959AEDT-1002Ux4hx1@https://carerkafe.org.au/
DTSTAMP:20190301T100959Z
DESCRIPTION:&gt\;&gt\;Register Here&lt\;&lt\;\nThis workshop explores the i
 mportance of being in ‘thinking mind’ mode when the children you care for 
 are struggling.\nIn doing so\, Carers can accurately assess what is happen
 ing in the internal world of the child or young person at that moment\, an
 d respond in ways that will assist to reduce trauma and feelings of low se
 lf esteem.\nPractical interventions will be discussed and demonstrated.\nP
 resented by: Australian Childhood Trauma Group\n\nHosted by: Uniting\n\n h
 ttps://carerkafe.org.au/training/all-training/event/378-thinking-mind-rept
 ilian-brain-sale
DTSTART:20190320T220000Z
DTEND:20190321T040000Z
LOCATION:Uniting (Sale) (126 Raymond St\, Sale VIC 3850\, Australia)
SUMMARY:Thinking Mind\, Reptilian Brain (Sale)
URL:https://carerkafe.org.au/training/all-training/event/378-thinking-mind-
 reptilian-brain-sale
END:VEVENT
END:VCALENDAR
