BEGIN:VCALENDAR
VERSION:2.0
PRODID:-//https://carerkafe.org.au///NONSGML kigkonsult.se iCalcreator 2.10.15//
METHOD:PUBLISH
BEGIN:VEVENT
UID:20190301T211322AEDT-5253bRbv99@https://carerkafe.org.au/
DTSTAMP:20190301T101322Z
DESCRIPTION:&gt\;&gt\;Register Here&lt\;&lt\;\nFeeling out of your depth wi
 th aggressive behavior?\nThis training will provide carers with knowledge 
 of how to prevent aggressive and violent situations\, and how to respond t
 o them if they occur.\n Carers will:\n\ndiscover the key aspects of assess
 ing aggressive behavior\nlearn how to prevent and respond to aggressive an
 d violent situations\nlearn practical strategies to manage aggressive inci
 dents\n\nPresented by: Australian Childhood Trauma Group\n\nHosted by: Uni
 ting\n\n https://carerkafe.org.au/training/all-training/event/379-regulati
 ng-aggressive-and-violent-emotions-2-days-sale
DTSTART:20190522T230000Z
DTEND:20190524T050000Z
LOCATION:Uniting (Sale) (126 Raymond St\, Sale VIC 3850\, Australia)
SUMMARY:Regulating Aggressive and Violent Emotions (2 days) (Sale)
URL:https://carerkafe.org.au/training/all-training/event/379-regulating-agg
 ressive-and-violent-emotions-2-days-sale
END:VEVENT
END:VCALENDAR
