BEGIN:VCALENDAR
VERSION:2.0
PRODID:-//https://carerkafe.org.au///NONSGML kigkonsult.se iCalcreator 2.10.15//
METHOD:PUBLISH
BEGIN:VEVENT
UID:20190301T211952AEDT-1526KjzkPn@https://carerkafe.org.au/
DTSTAMP:20190301T101952Z
DESCRIPTION:&gt\;&gt\;Register Here&lt\;&lt\;\nHow to be the best advocate 
 for the child in my care\nChildren and young people often need advocates\,
  and Carers are well placed to do this.\nIncrease your understanding about
 :\n\nwhat it means to be an advocate\nhow to be the best advocate for chil
 dren and young people\nhow to engage others to be your advocate\nhow to na
 vigate the home based care system\, Child Protection\, and the Children’s 
 Court\nvarious communication styles and how to feel more confident when ha
 ving difficult conversations\, especially when communicating with a divers
 e range of people.\n\nPresented by: Berry Street\n\nHosted by: Berry Stree
 t\n https://carerkafe.org.au/training/all-training/event/383-being-heard-c
 ommunication-in-the-care-system-noble-park
DTSTART:20191009T224500Z
DTEND:20191010T034500Z
LOCATION:Berry Street Noble Park (Level 1/500 Princes Hwy\, Noble Park Nort
 h VIC 3174\, Australia)
SUMMARY:Being Heard: Communication in the Care System (Noble Park)
URL:https://carerkafe.org.au/training/all-training/event/383-being-heard-co
 mmunication-in-the-care-system-noble-park
END:VEVENT
END:VCALENDAR
