BEGIN:VCALENDAR
VERSION:2.0
PRODID:-//https://carerkafe.org.au///NONSGML kigkonsult.se iCalcreator 2.10.15//
METHOD:PUBLISH
BEGIN:VEVENT
UID:20190301T211341AEDT-4111DV2kru@https://carerkafe.org.au/
DTSTAMP:20190301T101341Z
DESCRIPTION:&gt\;&gt\;Register Here&lt\;&lt\;\nFeeling out of your depth wi
 th aggressive behavior?  \nThis training will provide carers with knowledg
 e of how to prevent aggressive and violent situations\, and how to respond
  to them if they occur.\n Carers will:\n\ndiscover the key aspects of asse
 ssing aggressive behavior\nlearn how to prevent and respond to aggressive 
 and violent situations\nlearn practical strategies to manage aggressive in
 cidents\n\nPresented by: Australian Childhood Trauma Group\n\nHosted by: A
 nglicare\n\n\n https://carerkafe.org.au/training/all-training/event/386-re
 gulating-aggressive-and-violent-emotions-2-days-bendigo
DTSTART:20190602T230000Z
DTEND:20190604T050000Z
LOCATION:Anglicare (Bendigo) (10 Mundy St\, Bendigo VIC 3550\, Australia)
SUMMARY:Regulating Aggressive and Violent Emotions (2 days) (Bendigo)
URL:https://carerkafe.org.au/training/all-training/event/386-regulating-agg
 ressive-and-violent-emotions-2-days-bendigo
END:VEVENT
END:VCALENDAR
