BEGIN:VCALENDAR
VERSION:2.0
PRODID:-//https://carerkafe.org.au///NONSGML kigkonsult.se iCalcreator 2.10.15//
METHOD:PUBLISH
BEGIN:VEVENT
UID:20190301T211357AEDT-2938dfluXG@https://carerkafe.org.au/
DTSTAMP:20190301T101357Z
DESCRIPTION:&gt\;&gt\;Register Here&lt\;&lt\;\nWho is Nikara?\nFollow the s
 tory of Nikara and her non-Aboriginal foster parents as they learn how to 
 provide the right support\, respect her identity\, and keep her safe and c
 onnected to her family\, culture and community.\nThis program provides bot
 h Aboriginal and non-Aboriginal Carers with the knowledge to care and supp
 ort Aboriginal children.\nPresented by: VACCA\n\nHosted by: Berry Street\n
 \n https://carerkafe.org.au/training/all-training/event/396-nikara-s-journ
 ey-2-days-eaglemont
DTSTART:20190605T233000Z
DTEND:20190607T060000Z
LOCATION:Berry Street (Eaglemont) (677 The Boulevard Eaglemont)
SUMMARY:Nikara's Journey - 2 Days (Eaglemont)
URL:https://carerkafe.org.au/training/all-training/event/396-nikara-s-journ
 ey-2-days-eaglemont
END:VEVENT
END:VCALENDAR
