BEGIN:VCALENDAR
VERSION:2.0
PRODID:-//https://carerkafe.org.au///NONSGML kigkonsult.se iCalcreator 2.10.15//
METHOD:PUBLISH
BEGIN:VEVENT
UID:20190301T211910AEDT-6184iVHi5R@https://carerkafe.org.au/
DTSTAMP:20190301T101910Z
DESCRIPTION:&gt\;&gt\;Register Here&lt\;&lt\;\nThis workshop explores the i
 mportance of being in ‘thinking mind’ mode when the children you care for 
 are struggling.\nIn doing so\, Carers can accurately assess what is happen
 ing in the internal world of the child or young person at that moment\, an
 d respond in ways that will assist to reduce trauma and feelings of low se
 lf esteem.\nPractical interventions will be discussed and demonstrated.\nP
 resented by: Australian Childhood Trauma Group\n\nHosted by: Berry Street
 \n\n\n https://carerkafe.org.au/training/all-training/event/397-thinking-m
 ind-reptilian-brain-eaglemont
DTSTART:20190823T230000Z
DTEND:20190824T050000Z
LOCATION:Berry Street (Eaglemont) (677 The Boulevard Eaglemont)
SUMMARY:Thinking Mind\, Reptilian Brain (Eaglemont)
URL:https://carerkafe.org.au/training/all-training/event/397-thinking-mind-
 reptilian-brain-eaglemont
END:VEVENT
END:VCALENDAR
