BEGIN:VCALENDAR
VERSION:2.0
PRODID:-//https://carerkafe.org.au///NONSGML kigkonsult.se iCalcreator 2.10.15//
METHOD:PUBLISH
BEGIN:VEVENT
UID:20190301T211943AEDT-92452gNHVh@https://carerkafe.org.au/
DTSTAMP:20190301T101943Z
DESCRIPTION:&gt\;&gt\;Register Here&lt\;&lt\;\nHow to be an Emotion Coach -
  just another string in your bow.  \nLearn how to recognise\, understand a
 nd respond to children’s emotions in an accepting and supportive manner.\n
 This approach helps children and young people to understand and manage the
 ir emotions and to use emotional awareness as a guide to solving their pro
 blems\, dealing with life’s frustrations and regulating their feelings.\nP
 resented by: Emotionwise (Joanie Bartolo)\nHosted by: Berry Street\n\n htt
 ps://carerkafe.org.au/training/all-training/event/399-emotional-intelligen
 ce-and-the-importance-of-emotion-coaching-for-kids-in-care-eaglemont
DTSTART:20191008T070000Z
DTEND:20191008T100000Z
LOCATION:Berry Street (Eaglemont) (677 The Boulevard Eaglemont)
SUMMARY:Emotional Intelligence and the Importance of Emotion Coaching for K
 ids in Care (Eaglemont)
URL:https://carerkafe.org.au/training/all-training/event/399-emotional-inte
 lligence-and-the-importance-of-emotion-coaching-for-kids-in-care-eaglemont
END:VEVENT
END:VCALENDAR
