BEGIN:VCALENDAR
VERSION:2.0
PRODID:-//https://carerkafe.org.au///NONSGML kigkonsult.se iCalcreator 2.10.15//
METHOD:PUBLISH
BEGIN:VEVENT
UID:20190301T211426AEDT-1062FicMme@https://carerkafe.org.au/
DTSTAMP:20190301T101426Z
DESCRIPTION:&gt\;&gt\;Register Here&lt\;&lt\;\nThis workshop explores the i
 mportance of being in ‘thinking mind’ mode when the children you care for 
 are struggling.\nIn doing so\, Carers can accurately assess what is happen
 ing in the internal world of the child or young person at that moment\, an
 d respond in ways that will assist to reduce trauma and feelings of low se
 lf esteem.\nPractical interventions will be discussed and demonstrated.\nP
 resented by: Australian Childhood Trauma Group\n\nHosted by: Mildura Distr
 ict Aboriginal Services\n\n\n https://carerkafe.org.au/training/all-traini
 ng/event/402-thinking-mind-reptilian-brain-mildura
DTSTART:20190620T230000Z
DTEND:20190621T050000Z
LOCATION:MDAS Community Hall (120 Madden Ave\, Mildura VIC 3500\, Australia
 )
SUMMARY:Thinking Mind\, Reptilian Brain (Mildura)
URL:https://carerkafe.org.au/training/all-training/event/402-thinking-mind-
 reptilian-brain-mildura
END:VEVENT
END:VCALENDAR
