BEGIN:VCALENDAR
VERSION:2.0
PRODID:-//https://carerkafe.org.au///NONSGML kigkonsult.se iCalcreator 2.10.15//
METHOD:PUBLISH
BEGIN:VEVENT
UID:20190301T212237AEDT-3575TgVVRm@https://carerkafe.org.au/
DTSTAMP:20190301T102237Z
DESCRIPTION:&gt\;&gt\;Register Here&lt\;&lt\;\nGood Grief! It’s a personal 
 journey that takes time\nWe all experience grief when we lose someone or s
 omething important to us. Children and young people experience grief as a 
 result of being separated from family\, carers\, pets\, school friends and
  possessions.\nCarers will explore the process and stages of grief and los
 s\, and how to support children and young people navigate their confusing 
 feelings\, thoughts and behaviors associated with grief.\n Significantly\,
  Carers can experience grief at the end of a placement and need to acknowl
 edge their grief and understand how it can affect their ability to support
  children and young people.\nPresented: Berry Street\n\nHosted by: OzChild
 \n\n https://carerkafe.org.au/training/all-training/event/408-life-after-l
 oss-dandenong
DTSTART:20191112T224500Z
DTEND:20191113T034500Z
LOCATION:OzChild Dandenong New Office (Level 4\, 14-16 Mason Street Dandeno
 ng)
SUMMARY:Life After Loss (Dandenong)
URL:https://carerkafe.org.au/training/all-training/event/408-life-after-los
 s-dandenong
END:VEVENT
END:VCALENDAR
