BEGIN:VCALENDAR
VERSION:2.0
PRODID:-//https://carerkafe.org.au///NONSGML kigkonsult.se iCalcreator 2.10.15//
METHOD:PUBLISH
BEGIN:VEVENT
UID:20190301T211237AEDT-9966WvsRAt@https://carerkafe.org.au/
DTSTAMP:20190301T101237Z
DESCRIPTION:&gt\;&gt\;Register Here&lt\;&lt\;\nCarers will gain insight int
 o the role of risk taking in adolescent development and in the context of 
 substance use\, and understand:\n\nhow young people assess risk and make d
 ecisions\nwhy adolescents use drugs and how this relates to adolescent dev
 elopment\ndrivers of risk and how risk relates to resilience\nhow to influ
 ence the types of risks young people take and reduce potential harm.\n\nIt
  will explore why young people in care are vulnerable to using alcohol or 
 other drugs in the future and provide strategies to reduce these vulnerabi
 lities\nPresented by: YSAS\n\nHosted by: Uniting\n\n https://carerkafe.org
 .au/training/all-training/event/414-understanding-risk-taking-in-adolescen
 ce-werribee
DTSTART:20190509T013000Z
DTEND:20190509T050000Z
LOCATION:The Plaza Tavern (250 Heaths Rd\, Hoppers Crossing VIC 3029\, Aust
 ralia)
SUMMARY:Understanding Risk Taking in Adolescence (Werribee)
URL:https://carerkafe.org.au/training/all-training/event/414-understanding-
 risk-taking-in-adolescence-werribee
END:VEVENT
END:VCALENDAR
