BEGIN:VCALENDAR
VERSION:2.0
PRODID:-//https://carerkafe.org.au///NONSGML kigkonsult.se iCalcreator 2.10.15//
METHOD:PUBLISH
BEGIN:VEVENT
UID:20190301T211857AEDT-1784LFBMi4@https://carerkafe.org.au/
DTSTAMP:20190301T101857Z
DESCRIPTION:&gt\;&gt\;Register Here&lt\;&lt\;\nWant to make learning\, and 
 homework\, fun?!\n This evidence based approach to learning is mapped to c
 urrent curriculum and includes proven approaches to engaging with children
  to support their literacy and numeracy in a FUN and engaging manner. YES\
 , the games really are helping learn! (Also helps Carers understand the te
 aching methods used today!).\nManuals and activity kits are provided for u
 se in the home environment to support learning.\nOngoing support is provid
 ed to Carers with access to additional resources and videos\nPresented by:
  The Pyjama Foundation\n\nHosted by: Uniting\n https://carerkafe.org.au/tr
 aining/all-training/event/416-love-of-learning-werribee
DTSTART:20190815T233000Z
DTEND:20190816T050000Z
LOCATION:The Plaza Tavern (250 Heaths Rd\, Hoppers Crossing VIC 3029\, Aust
 ralia)
SUMMARY:Love of Learning (Werribee)
URL:https://carerkafe.org.au/training/all-training/event/416-love-of-learni
 ng-werribee
END:VEVENT
END:VCALENDAR
