BEGIN:VCALENDAR
VERSION:2.0
PRODID:-//https://carerkafe.org.au///NONSGML kigkonsult.se iCalcreator 2.10.15//
METHOD:PUBLISH
BEGIN:VEVENT
UID:20190301T211958AEDT-00065Cn5JH@https://carerkafe.org.au/
DTSTAMP:20190301T101958Z
DESCRIPTION:&gt\;&gt\;Register Here&lt\;&lt\;\nWant to make learning\, and 
 homework\, fun?!\n This evidence based approach to learning is mapped to c
 urrent curriculum and includes proven approaches to engaging with children
  to support their literacy and numeracy in a FUN and engaging manner. YES\
 , the games really are helping learn! (Also helps Carers understand the te
 aching methods used today!).\nManuals and activity kits are provided for u
 se in the home environment to support learning.\nOngoing support is provid
 ed to Carers with access to additional resources and videos\nPresented by:
  The Pyjama Foundation\n\nHosted by: Upper Murray Family Care\n\n\n https:
 //carerkafe.org.au/training/all-training/event/420-love-of-learning-wodong
 a
DTSTART:20191010T223000Z
DTEND:20191011T040000Z
LOCATION:Upper Murray Family Care (27 Stanley St\, Wodonga VIC 3690\, Austr
 alia)
SUMMARY:Love of Learning (Wodonga)
URL:https://carerkafe.org.au/training/all-training/event/420-love-of-learni
 ng-wodonga
END:VEVENT
END:VCALENDAR
