BEGIN:VCALENDAR
VERSION:2.0
PRODID:-//https://carerkafe.org.au///NONSGML kigkonsult.se iCalcreator 2.10.15//
METHOD:PUBLISH
BEGIN:VEVENT
UID:20190301T212152AEDT-23840jv4UV@https://carerkafe.org.au/
DTSTAMP:20190301T102152Z
DESCRIPTION:&gt\;&gt\;Register Here&lt\;&lt\;\nCarers will gain insight int
 o the role of risk taking in adolescent development and in the context of 
 substance use\, and understand:\n\nhow young people assess risk and make d
 ecisions\nwhy adolescents use drugs and how this relates to adolescent dev
 elopment\ndrivers of risk and how risk relates to resilience\nhow to influ
 ence the types of risks young people take and reduce potential harm.\n\nIt
  will explore why young people in care are vulnerable to using alcohol or 
 other drugs in the future and provide strategies to reduce these vulnerabi
 lities\nPresented by: YSAS\n\nHosted by: Brophy\n\n\n https://carerkafe.or
 g.au/training/all-training/event/425-understanding-risk-taking-in-adolesce
 nce-warrnambool
DTSTART:20190913T013000Z
DTEND:20190913T050000Z
LOCATION:Brophy Community Youth Complex (Warrnambool) (210 Timor St\, Warrn
 ambool VIC 3280\, Australia)
SUMMARY:Understanding Risk Taking in Adolescence (Warrnambool)
URL:https://carerkafe.org.au/training/all-training/event/425-understanding-
 risk-taking-in-adolescence-warrnambool
END:VEVENT
END:VCALENDAR
