BEGIN:VCALENDAR
VERSION:2.0
PRODID:-//https://carerkafe.org.au///NONSGML kigkonsult.se iCalcreator 2.10.15//
METHOD:PUBLISH
BEGIN:VEVENT
UID:20190301T211208AEDT-5784evvoxZ@https://carerkafe.org.au/
DTSTAMP:20190301T101208Z
DESCRIPTION:&gt\;&gt\;Register Here&lt\;&lt\;\nWould you like to  learn ori
 gins of your own parenting style and how you can be a more effective Carer
 ?\nKinship Carers will learn about child brain development and its influen
 ce on thoughts\, feelings and behavior - including the impact of trauma\, 
 loss and grief.\nThis session will help Carers to:\n\nidentify what messag
 es are really important and how to communicate with children\nunderstand t
 he meaning of children’s behaviour\nremove some of the obstacles to help y
 ou be the Carer you want to be\nimplement self-care strategies and find su
 pport when needed.\n\nPresented by: Australian Childhood Foundation\n\nHos
 ted by: Centacare\n\n&nbsp\; https://carerkafe.org.au/training/all-trainin
 g/event/429-bringing-up-great-kids-in-kinship-mildura
DTSTART:20190422T230000Z
DTEND:20190424T063000Z
LOCATION:Centacare (136 Lime Ave\, Mildura VIC 3500\, Australia)
SUMMARY:Bringing Up Great Kids in Kinship (Mildura)
URL:https://carerkafe.org.au/training/all-training/event/429-bringing-up-gr
 eat-kids-in-kinship-mildura
END:VEVENT
END:VCALENDAR
