BEGIN:VCALENDAR
VERSION:2.0
PRODID:-//https://carerkafe.org.au///NONSGML kigkonsult.se iCalcreator 2.10.15//
METHOD:PUBLISH
BEGIN:VEVENT
UID:20190301T212229AEDT-3174G4GNWI@https://carerkafe.org.au/
DTSTAMP:20190301T102229Z
DESCRIPTION:&gt\;&gt\;Register Here&lt\;&lt\;\nHow can I reach the young pe
 rson in crisis?\nThis session will engage carers in the topic of self-harm
  - non-suicidal self-injury and explain what it is\, why it happens and wh
 at carers can do. Garry King has a background as a teacher\, youth worker 
 and counsellor and will teach carers\;\n\nWho is most at risk?\nwhat to lo
 ok for\, signs of self harm\nstrategies to reduce self harm\nprevention st
 rategies\nprotective factors to implement\, including mindfulness\nrisk fa
 ctors\nwhat to say\, what to do\nwho to link with and when\n\nPresented by
 : Agenda 2001\nHosted by: Uniting\n\n\n\n https://carerkafe.org.au/trainin
 g/all-training/event/441-caring-for-young-people-who-self-harm-horsham
DTSTART:20191020T220000Z
DTEND:20191021T040000Z
LOCATION:Uniting Horsham (185 Baillie St\, Horsham VIC 3400\, Australia)
SUMMARY:Caring for Young People who Self Harm (Horsham)
URL:https://carerkafe.org.au/training/all-training/event/441-caring-for-you
 ng-people-who-self-harm-horsham
END:VEVENT
END:VCALENDAR
