BEGIN:VCALENDAR
VERSION:2.0
PRODID:-//https://carerkafe.org.au///NONSGML kigkonsult.se iCalcreator 2.10.15//
METHOD:PUBLISH
BEGIN:VEVENT
UID:20190301T211437AEDT-2007HjDWAj@https://carerkafe.org.au/
DTSTAMP:20190301T101437Z
DESCRIPTION:&gt\;&gt\;Register Here&lt\;&lt\;\nWho is Nikara?\nFollow the s
 tory of Nikara and her non-Aboriginal foster parents as they learn how to 
 provide the right support\, respect her identity\, and keep her safe and c
 onnected to her family\, culture and community.\nThis program provides bot
 h Aboriginal and non-Aboriginal Carers with the knowledge to care and supp
 ort Aboriginal children.\nPresented by: VACCA\n\nHosted by: Baptcare\n\n h
 ttps://carerkafe.org.au/training/all-training/event/442-nikara-s-journey-2
 -days-sunshine
DTSTART:20190621T233000Z
DTEND:20190623T060000Z
LOCATION:Baptcare (Sunshine) (3/131 Harvester Rd\, Sunshine VIC 3020\, Aust
 ralia)
SUMMARY:Nikara's Journey - 2 Days (Sunshine)
URL:https://carerkafe.org.au/training/all-training/event/442-nikara-s-journ
 ey-2-days-sunshine
END:VEVENT
END:VCALENDAR
