BEGIN:VCALENDAR
VERSION:2.0
PRODID:-//https://carerkafe.org.au///NONSGML kigkonsult.se iCalcreator 2.10.15//
METHOD:PUBLISH
BEGIN:VEVENT
UID:20190301T211817AEDT-8164ugHL6L@https://carerkafe.org.au/
DTSTAMP:20190301T101817Z
DESCRIPTION:Registrations for this event will open in May 2019. Please note
  this is a one off workshop with only 30 tickets available.\nUsing innovat
 ive and creative techniques\, Richard Rose (UK) will demonstrate how to cr
 eate healthy and nurturing environments - even with the challenging child.
 \nAlways engaging and practical\, the session will focus on understanding 
 child behavior and attachment\, communication strategies\, and the range o
 f tools for managing challenging situations and helping young people achie
 ve their full potential.\nPresented by: Berry Street\n https://carerkafe.o
 rg.au/training/all-training/event/443-richard-rose-therapeutic-parenting-w
 ith-the-challenging-child-richmond
DTSTART:20190704T000000Z
DTEND:20190704T060000Z
LOCATION:Amora Riverwalk Hotel (649 Bridge Rd\, Richmond VIC 3121\, Austral
 ia)
SUMMARY:RICHARD ROSE: Therapeutic Parenting with the Challenging Child (Ric
 hmond)
URL:https://carerkafe.org.au/training/all-training/event/443-richard-rose-t
 herapeutic-parenting-with-the-challenging-child-richmond
END:VEVENT
END:VCALENDAR
