BEGIN:VCALENDAR
VERSION:2.0
PRODID:-//https://carerkafe.org.au///NONSGML kigkonsult.se iCalcreator 2.10.15//
METHOD:PUBLISH
BEGIN:VEVENT
UID:20190301T212002AEDT-5081cAFijB@https://carerkafe.org.au/
DTSTAMP:20190301T102002Z
DESCRIPTION:Registrations for this event will open in august 2019.&nbsp\;\n
 Using innovative and creative techniques\, Richard Rose (UK) will demonstr
 ate how to create healthy and nurturing environments - even with the chall
 enging child.\nAlways engaging and practical\, the session will focus on u
 nderstanding child behavior and attachment\, communication strategies\, an
 d the range of tools for managing challenging situations and helping young
  people achieve their full potential.\nPresented by: Berry Street\n\nHoste
 d by: Barwon Child\, Youth and Family\n https://carerkafe.org.au/training/
 all-training/event/444-richard-rose-therapeutic-parenting-with-the-challen
 ging-child-geelong
DTSTART:20191013T230000Z
DTEND:20191014T050000Z
LOCATION:Geelong to be confirmed (Geelong VIC 3220\, Australia)
SUMMARY:RICHARD ROSE: Therapeutic Parenting with the Challenging Child (Gee
 long)
URL:https://carerkafe.org.au/training/all-training/event/444-richard-rose-t
 herapeutic-parenting-with-the-challenging-child-geelong
END:VEVENT
END:VCALENDAR
