BEGIN:VCALENDAR
VERSION:2.0
PRODID:-//https://carerkafe.org.au///NONSGML kigkonsult.se iCalcreator 2.10.15//
METHOD:PUBLISH
BEGIN:VEVENT
UID:20190301T211020AEDT-6187xzU36Z@https://carerkafe.org.au/
DTSTAMP:20190301T101020Z
DESCRIPTION:This retreat is sold out. If you are interested please subscrib
 e to our mailing list and we will notify you of new spots.\nThis two day r
 etreat aims to support and celebrate the resilience of carers\, allowing t
 ime to reflect through shared learning\, development and networking. Over 
 the two days you will enhance your feelings of safety\, health and happine
 ss in your caring role.\nDevelop a deeper understanding of Emotional Intel
 ligence in a series of two sessions specifically designed for carers by Jo
 anie Bartolo\, experience a Welcome to Country from local elders\, partici
 pate in mindful walking session and connect with other carers.\nOnly 20 sp
 ots available\nIncluded: All paid for one night's accommodation and meals
 \nPlease note:&nbsp\;This retreat is only available for Accredited Foster 
 Carers &amp\; Statutory Kinship Carers. Due to high demand\, carers who ha
 ve not previously attended a Retreat/Conference will be prioritized.\nCanc
 ellations after Wednesday 20th March 2019 will incur a fine of $150.00\nHo
 sted and Presented by: Foster Care Association of Victoria\n https://carer
 kafe.org.au/training/all-training/event/445-carer-retreat-weekend-inverloc
 h-sold-out
DTSTART:20190329T230000Z
DTEND:20190331T043000Z
LOCATION:RACV Club Inverloch (70 Cape Paterson-Inverloch Rd\, Inverloch VIC
  3996\, Australia)
SUMMARY:Carer Retreat Weekend (Inverloch) - SOLD OUT
URL:https://carerkafe.org.au/training/all-training/event/445-carer-retreat-
 weekend-inverloch-sold-out
END:VEVENT
END:VCALENDAR
