BEGIN:VCALENDAR
VERSION:2.0
PRODID:-//https://carerkafe.org.au///NONSGML kigkonsult.se iCalcreator 2.10.15//
METHOD:PUBLISH
BEGIN:VEVENT
UID:20190301T212648AEDT-8972vd3aA7@https://carerkafe.org.au/
DTSTAMP:20190301T102648Z
DESCRIPTION:&gt\;&gt\;Register Here&lt\;&lt\;\nThis training targets all ca
 rers but particularly those who are currently caring for young people who 
 are using alcohol or other drugs. It will introduce carers to different dr
 ugs and their effects. These will be placed in the context of current tren
 ds and patterns of use amongst young people.\nPresented by: YSAS\n\nHosted
  by: Mackillop Family Services\n https://carerkafe.org.au/training/calenda
 r-view/event/334-understanding-and-responding-to-adolescent-drug-or-alcoho
 l-uses-warrnambool
DTSTART:20190315T230000Z
DTEND:20190316T030000Z
LOCATION:The Flying Horse (10691 Princes Hwy\, Warrnambool VIC 3280\, Austr
 alia)
SUMMARY:Understanding and responding to adolescent drug or alcohol uses (Wa
 rrnambool)
URL:https://carerkafe.org.au/training/calendar-view/event/334-understanding
 -and-responding-to-adolescent-drug-or-alcohol-uses-warrnambool
END:VEVENT
END:VCALENDAR
