BEGIN:VCALENDAR
VERSION:2.0
PRODID:-//https://carerkafe.org.au///NONSGML kigkonsult.se iCalcreator 2.10.15//
METHOD:PUBLISH
BEGIN:VEVENT
UID:20190301T212751AEDT-1736AWzMM8@https://carerkafe.org.au/
DTSTAMP:20190301T102751Z
DESCRIPTION:&gt\;&gt\;Register Here&lt\;&lt\;\nMental Illness will most lik
 ely affect us all at some point in our life - directly or indirectly.\nBe 
 on the front foot to know the symptoms\, causes and treatments for some of
  the major mental illnesses.\nCarers will:\n\nlearn how to spot warning si
 gns of mental health problems and respond appropriately\nunderstand mental
  health crisis situations: suicidal thoughts and behaviors\, panic attacks
 \, severe effects of drug or alcohol use\, psychotic states\, aggressive b
 ehaviours\nlearn how to provide appropriate help (mental health first aid)
  and when and where to seek professional help.\n\n&nbsp\;\nPresented by: A
 ustralian Childhood Trauma Group\n\nHosted by: Anglicare Victoria\n https:
 //carerkafe.org.au/training/calendar-view/event/335-an-introduction-to-men
 tal-health-kilsyth
DTSTART:20190327T070000Z
DTEND:20190327T100000Z
LOCATION:Japara House (54-58 Durham Rd\, Kilsyth VIC 3137\, Australia)
SUMMARY:An Introduction to Mental Health (Kilsyth)
URL:https://carerkafe.org.au/training/calendar-view/event/335-an-introducti
 on-to-mental-health-kilsyth
END:VEVENT
END:VCALENDAR
