BEGIN:VCALENDAR
VERSION:2.0
PRODID:-//https://carerkafe.org.au///NONSGML kigkonsult.se iCalcreator 2.10.15//
METHOD:PUBLISH
BEGIN:VEVENT
UID:20190301T213707AEDT-8449Wu8COw@https://carerkafe.org.au/
DTSTAMP:20190301T103707Z
DESCRIPTION:&gt\;&gt\;Register Here&lt\;&lt\;\nThis session focuses on the 
 intergenerational trauma of family violence and how it impacts children’s 
 and young people’s development and behaviour.\nCarers will learn:\n\nwhat 
 constitutes family violence\, legal definitions\, indicators\, current sta
 tistics\, findings from the Royal Commission\nthe impact of Family Violenc
 e on children and young people from a neurobiological perspective\nchildre
 ns emotional and behavioural responses&nbsp\; following exposure to Family
  Violence\, which may persist even once children are safe\n\nPresented by:
  KidsFirst Training\n\nHosted by: Quantum Support Services\n https://carer
 kafe.org.au/training/calendar-view/event/337-family-violence-the-real-impa
 ct-on-children-sale
DTSTART:20190401T230000Z
DTEND:20190402T030000Z
LOCATION:Sale RSL & Community Club (143 York St\, Sale VIC 3850)
SUMMARY:Family Violence: The Real Impact on Children (Sale)
URL:https://carerkafe.org.au/training/calendar-view/event/337-family-violen
 ce-the-real-impact-on-children-sale
END:VEVENT
END:VCALENDAR
