BEGIN:VCALENDAR
VERSION:2.0
PRODID:-//https://carerkafe.org.au///NONSGML kigkonsult.se iCalcreator 2.10.15//
METHOD:PUBLISH
BEGIN:VEVENT
UID:20190301T214342AEDT-0623BvfcTL@https://carerkafe.org.au/
DTSTAMP:20190301T104342Z
DESCRIPTION:&gt\;&gt\;Register Here&lt\;&lt\;\n“It is easier to build stron
 g children than repair broken men'&nbsp\; &nbsp\;~ Frederic Douglas\nBuild
 ing on this quote\, Fostering Resilience maintains that specific intervent
 ions can help to foster resilient behaviors and attitudes\, leading to muc
 h better outcomes during and after the care experience.\nThe session will 
 provide an understanding of how the trauma of the care experience can impa
 ct children and young people\, and how to counter these impacts.\nMichael 
 was raised in the out of home care sector in the USA and now\, after gaini
 ng his Masters in Trauma and Resilience\, travels the world helping carers
  develop a Fostering Resilience Action Plan.\nPresented by: Manifest with 
 Power (Michael Place)\nHosted by: Winda-Mara Aboriginal Corporation\n http
 s://carerkafe.org.au/training/calendar-view/event/340-fostering-resilience
 -heywood
DTSTART:20190910T230000Z
DTEND:20190911T043000Z
LOCATION:Winda-Mara Aboriginal Corporation (21 Scott St\, Heywood VIC 3304\
 , Australia)
SUMMARY:Fostering Resilience (Heywood)
URL:https://carerkafe.org.au/training/calendar-view/event/340-fostering-res
 ilience-heywood
END:VEVENT
END:VCALENDAR
