BEGIN:VCALENDAR
VERSION:2.0
PRODID:-//https://carerkafe.org.au///NONSGML kigkonsult.se iCalcreator 2.10.15//
METHOD:PUBLISH
BEGIN:VEVENT
UID:20190301T212719AEDT-4923KJaWFS@https://carerkafe.org.au/
DTSTAMP:20190301T102719Z
DESCRIPTION:&gt\;&gt\;Register Here&lt\;&lt\;\nThis session focuses on the 
 intergenerational trauma of family violence and how it impacts children’s 
 and young people’s development and behaviour.\nCarers will learn:\n\nwhat 
 constitutes family violence\, legal definitions\, indicators\, current sta
 tistics\, findings from the Royal Commission\nthe impact of Family Violenc
 e on children and young people from a neurobiological perspective\nchildre
 ns emotional and behavioural responses&nbsp\; following exposure to Family
  Violence\, which may persist even once children are safe\n\nPresented by:
  KidsFirst Training\n\nHosted by: OzChild\n\n https://carerkafe.org.au/tra
 ining/calendar-view/event/342-family-violence-the-real-impact-on-children-
 dandenong
DTSTART:20190319T230000Z
DTEND:20190320T030000Z
LOCATION:OzChild Dandenong New Office (Level 4\, 14-16 Mason Street Dandeno
 ng)
SUMMARY:Family Violence: The Real Impact on Children (Dandenong)
URL:https://carerkafe.org.au/training/calendar-view/event/342-family-violen
 ce-the-real-impact-on-children-dandenong
END:VEVENT
END:VCALENDAR
