BEGIN:VCALENDAR
VERSION:2.0
PRODID:-//https://carerkafe.org.au///NONSGML kigkonsult.se iCalcreator 2.10.15//
METHOD:PUBLISH
BEGIN:VEVENT
UID:20190301T214305AEDT-5363od4AFl@https://carerkafe.org.au/
DTSTAMP:20190301T104305Z
DESCRIPTION:&gt\;&gt\;Register Here&lt\;&lt\;\nHow to be an Emotion Coach -
  just another string in your bow.  \nLearn how to recognise\, understand a
 nd respond to children’s emotions in an accepting and supportive manner.\n
 This approach helps children and young people to understand and manage the
 ir emotions and to use emotional awareness as a guide to solving their pro
 blems\, dealing with life’s frustrations and regulating their feelings.\nP
 resented by: Emotionwise (Joanie Bartolo)\nHosted by: Mallee Family Care\n
  https://carerkafe.org.au/training/calendar-view/event/345-emotional-intel
 ligence-and-the-importance-of-emotion-coaching-for-kids-in-care-mildura
DTSTART:20190812T023000Z
DTEND:20190812T050000Z
LOCATION:Mallee Family Care (122 Ninth St\, Mildura VIC 3500\, Australia)
SUMMARY:Emotional Intelligence and the Importance of Emotion Coaching for K
 ids in Care (Mildura)
URL:https://carerkafe.org.au/training/calendar-view/event/345-emotional-int
 elligence-and-the-importance-of-emotion-coaching-for-kids-in-care-mildura
END:VEVENT
END:VCALENDAR
