BEGIN:VCALENDAR
VERSION:2.0
PRODID:-//https://carerkafe.org.au///NONSGML kigkonsult.se iCalcreator 2.10.15//
METHOD:PUBLISH
BEGIN:VEVENT
UID:20190301T213734AEDT-7485Jd7rPe@https://carerkafe.org.au/
DTSTAMP:20190301T103734Z
DESCRIPTION:&gt\;&gt\;Register Here&lt\;&lt\;\nHow to be an Emotion Coach -
  just another string in your bow.  \nLearn how to recognise\, understand a
 nd respond to children’s emotions in an accepting and supportive manner.\n
 This approach helps children and young people to understand and manage the
 ir emotions and to use emotional awareness as a guide to solving their pro
 blems\, dealing with life’s frustrations and regulating their feelings.\nP
 resented by: Emotionwise (Joanie Bartolo)\nHosted by: OzChild\n\n https://
 carerkafe.org.au/training/calendar-view/event/346-emotional-intelligence-a
 nd-the-importance-of-emotion-coaching-for-kids-in-care-dandenong
DTSTART:20190403T070000Z
DTEND:20190403T100000Z
LOCATION:OzChild Dandenong New Office (Level 4\, 14-16 Mason Street Dandeno
 ng)
SUMMARY:Emotional Intelligence and the Importance of Emotion Coaching for K
 ids in Care (Dandenong)
URL:https://carerkafe.org.au/training/calendar-view/event/346-emotional-int
 elligence-and-the-importance-of-emotion-coaching-for-kids-in-care-dandenon
 g
END:VEVENT
END:VCALENDAR
