BEGIN:VCALENDAR
VERSION:2.0
PRODID:-//https://carerkafe.org.au///NONSGML kigkonsult.se iCalcreator 2.10.15//
METHOD:PUBLISH
BEGIN:VEVENT
UID:20190301T214736AEDT-9217Hasgkd@https://carerkafe.org.au/
DTSTAMP:20190301T104736Z
DESCRIPTION:&gt\;&gt\;Register Here&lt\;&lt\;\nIt is difficult to navigate 
 and access relevant supports when caring for a child or young person with 
 additional needs including developmental\, disability or mental health con
 ditions.\nWith the varied support systems available\, including local\, st
 ate and federally funded initiatives\, it can be overwhelming for Carers t
 o know where to start.\nThis session will focus on understanding and acces
 sing supports under the National Disability Insurance Scheme (NDIS)\, Medi
 care and other private or government services.\nPresented by: Lancaster Co
 nsulting\n\nHosted by: OzChild\n\n https://carerkafe.org.au/training/calen
 dar-view/event/350-from-diagnosis-to-support-the-ndis-medicare-and-other-s
 upport-services-frankston
DTSTART:20190808T000000Z
DTEND:20190808T043000Z
LOCATION:OzChild Frankston  (Frankston\, VIC\, Australia)
SUMMARY:From Diagnosis to Support - the NDIS\, Medicare and other support s
 ervices  (Frankston)
URL:https://carerkafe.org.au/training/calendar-view/event/350-from-diagnosi
 s-to-support-the-ndis-medicare-and-other-support-services-frankston
END:VEVENT
END:VCALENDAR
