BEGIN:VCALENDAR
VERSION:2.0
PRODID:-//https://carerkafe.org.au///NONSGML kigkonsult.se iCalcreator 2.10.15//
METHOD:PUBLISH
BEGIN:VEVENT
UID:20190301T214422AEDT-2976AvGKfk@https://carerkafe.org.au/
DTSTAMP:20190301T104422Z
DESCRIPTION:&gt\;&gt\;Register Here&lt\;&lt\;\nWhere behaviour problems exi
 st\, it is because the child has an underlying need that they are attempti
 ng to meet in the best way they know how. With Positive Behaviour Support 
 (PBS)\, we use scientifically validated methods to try to understand what 
 that unmet need is\, and to have that need met so that there is literally 
 no need for the individual to resort to behaviours that cause a problem to
  themselves or others around them.\nMeeting the unmet need may involve cha
 nging the individual’s environment\, teaching the individual new skills an
 d/or changing the supports we provide to the individual. The end result is
  that the person’s quality of life has improved\, the behaviour problems r
 educe and therefore the need to use more restrictive or punishment driven 
 strategies is eliminated.\nAs the developmental level and age of a child i
 mpacts significantly the behavioural presentation and support needs of a c
 hild\, this program focuses specifically on understanding and responding t
 o behaviour in children 0 – 8 years of age. There will be a focus on how c
 hild development for this age group can influence behaviour\, what is typi
 cal in this age cohort\, and the ways to understand and respond appropriat
 ely to meet the needs of children 0 – 8 years of age.\nPresented by: Lanca
 ster Consulting\n\nHosted by: CAFS\n\n https://carerkafe.org.au/training/c
 alendar-view/event/353-why-do-they-do-that-understanding-and-responding-to
 -behaviour-in-young-children-0-8-years-of-age-2-days-ballarat
DTSTART:20191014T223000Z
DTEND:20191016T033000Z
LOCATION:CAFS (115 Lydiard St N\, Ballarat Central VIC 3350\, Australia)
SUMMARY:Why do they do that? – Understanding and responding to behaviour in
  young children 0 – 8 years of age - 2 days (Ballarat)
URL:https://carerkafe.org.au/training/calendar-view/event/353-why-do-they-d
 o-that-understanding-and-responding-to-behaviour-in-young-children-0-8-yea
 rs-of-age-2-days-ballarat
END:VEVENT
END:VCALENDAR
