BEGIN:VCALENDAR
VERSION:2.0
PRODID:-//https://carerkafe.org.au///NONSGML kigkonsult.se iCalcreator 2.10.15//
METHOD:PUBLISH
BEGIN:VEVENT
UID:20190301T214930AEDT-7944mS9Hg2@https://carerkafe.org.au/
DTSTAMP:20190301T104930Z
DESCRIPTION:&gt\;&gt\;Register Here&lt\;&lt\;\nWho is Nikara?\nFollow the s
 tory of Nikara and her non-Aboriginal foster parents as they learn how to 
 provide the right support\, respect her identity\, and keep her safe and c
 onnected to her family\, culture and community.\nThis program provides bot
 h Aboriginal and non-Aboriginal Carers with the knowledge to care and supp
 ort Aboriginal children.\nPresented by: VACCA\n\nHosted by: Mackillop Fami
 ly Services\n https://carerkafe.org.au/training/calendar-view/event/356-ni
 kara-s-journey-2-days-warrnambool
DTSTART:20190603T233000Z
DTEND:20190605T060000Z
LOCATION:The Flying Horse (10691 Princes Hwy\, Warrnambool VIC 3280\, Austr
 alia)
SUMMARY:Nikara's Journey - 2 Days (Warrnambool)
URL:https://carerkafe.org.au/training/calendar-view/event/356-nikara-s-jour
 ney-2-days-warrnambool
END:VEVENT
END:VCALENDAR
