BEGIN:VCALENDAR
VERSION:2.0
PRODID:-//https://carerkafe.org.au///NONSGML kigkonsult.se iCalcreator 2.10.15//
METHOD:PUBLISH
BEGIN:VEVENT
UID:20190301T214231AEDT-55623Our1f@https://carerkafe.org.au/
DTSTAMP:20190301T104231Z
DESCRIPTION:&gt\;&gt\;Register Here&lt\;&lt\;\nHow to be an Emotion Coach -
  just another string in your bow.\n  \nLearn how to recognise\, understand
  and respond to children’s emotions in an accepting and supportive manner.
 \nThis approach helps children and young people to understand and manage t
 heir emotions and to use emotional awareness as a guide to solving their p
 roblems\, dealing with life’s frustrations and regulating their feelings.
 \nPresented by: Emotionwise (Joanie Bartolo)\nHosted by: Quantum Support S
 ervices\n\n\n https://carerkafe.org.au/training/calendar-view/event/359-em
 otional-intelligence-and-the-importance-of-emotion-coaching-for-kids-in-ca
 re-traralgon
DTSTART:20190621T023000Z
DTEND:20190621T050000Z
LOCATION:Traralgon RSL (116/109 Grey St\, Traralgon VIC 3844)
SUMMARY:Emotional Intelligence and the Importance of Emotion Coaching for K
 ids in Care (Traralgon)
URL:https://carerkafe.org.au/training/calendar-view/event/359-emotional-int
 elligence-and-the-importance-of-emotion-coaching-for-kids-in-care-traralgo
 n
END:VEVENT
END:VCALENDAR
