BEGIN:VCALENDAR
VERSION:2.0
PRODID:-//https://carerkafe.org.au///NONSGML kigkonsult.se iCalcreator 2.10.15//
METHOD:PUBLISH
BEGIN:VEVENT
UID:20190301T214630AEDT-6586F5wB8Z@https://carerkafe.org.au/
DTSTAMP:20190301T104630Z
DESCRIPTION:&gt\;&gt\;Register Here&lt\;&lt\;\nThis session focuses on the 
 intergenerational trauma of family violence and how it impacts children’s 
 and young people’s development and behaviour.\nCarers will learn:\n\nwhat 
 constitutes family violence\, legal definitions\, indicators\, current sta
 tistics\, findings from the Royal Commission\nthe impact of Family Violenc
 e on children and young people from a neurobiological perspective\nchildre
 ns emotional and behavioural responses&nbsp\; following exposure to Family
  Violence\, which may persist even once children are safe\n\nPresented by:
  KidsFirst Training\n\nHosted by: Anglicare\n\n https://carerkafe.org.au/t
 raining/calendar-view/event/361-family-violence-the-real-impact-on-childre
 n-mooroolbark
DTSTART:20190716T000000Z
DTEND:20190716T040000Z
LOCATION:Mooroolbark Community Centre (125 Brice Ave\, Mooroolbark VIC 3138
 \, Australia)
SUMMARY:Family Violence: The Real Impact on Children (Mooroolbark)
URL:https://carerkafe.org.au/training/calendar-view/event/361-family-violen
 ce-the-real-impact-on-children-mooroolbark
END:VEVENT
END:VCALENDAR
