BEGIN:VCALENDAR
VERSION:2.0
PRODID:-//https://carerkafe.org.au///NONSGML kigkonsult.se iCalcreator 2.10.15//
METHOD:PUBLISH
BEGIN:VEVENT
UID:20190301T214416AEDT-2528P2K86s@https://carerkafe.org.au/
DTSTAMP:20190301T104416Z
DESCRIPTION:&gt\;&gt\;Register Here&lt\;&lt\;\nHow children can be part of 
 two families and feel ok\nMany children and young people who live away fro
 m their biological families are able to ‘catch-up’ with them throughout th
 e year.\nCarers have an important role in supporting children and young pe
 ople with family access.&nbsp\;\nThis session will provide strategies to p
 repare and assist children and young people - so they can be part of 2 fam
 ilies and feel ok.\nPresented by: Australian Childhood Trauma Group\n\nHos
 ted by: Anglicare\n https://carerkafe.org.au/training/calendar-view/event/
 362-divided-loyalties-lilydale
DTSTART:20191014T070000Z
DTEND:20191014T100000Z
LOCATION:Anglicare Lilydale (47-51 Castella St\, Lilydale VIC 3140\, Austra
 lia)
SUMMARY:Divided Loyalties (Lilydale)
URL:https://carerkafe.org.au/training/calendar-view/event/362-divided-loyal
 ties-lilydale
END:VEVENT
END:VCALENDAR
