BEGIN:VCALENDAR
VERSION:2.0
PRODID:-//https://carerkafe.org.au///NONSGML kigkonsult.se iCalcreator 2.10.15//
METHOD:PUBLISH
BEGIN:VEVENT
UID:20190301T212609AEDT-0892a0XLUU@https://carerkafe.org.au/
DTSTAMP:20190301T102609Z
DESCRIPTION:&gt\;&gt\;Register Here&lt\;&lt\;\nHow to be an Emotion Coach -
  just another string in your bow.  \nLearn how to recognise\, understand a
 nd respond to children’s emotions in an accepting and supportive manner.\n
 This approach helps children and young people to understand and manage the
 ir emotions and to use emotional awareness as a guide to solving their pro
 blems\, dealing with life’s frustrations and regulating their feelings.\nP
 resented by: Emotion Wise (Joanie Bartolo)\nHosted by: Berry Street\n\n\n 
 https://carerkafe.org.au/training/calendar-view/event/364-emotional-intell
 igence-and-the-importance-of-emotion-coaching-for-kids-in-care-noble-park
DTSTART:20190307T013000Z
DTEND:20190307T040000Z
LOCATION:Berry Street Noble Park (Level 1/500 Princes Hwy\, Noble Park Nort
 h VIC 3174\, Australia)
SUMMARY:Emotional Intelligence and the Importance of Emotion Coaching for K
 ids in Care (Noble Park)
URL:https://carerkafe.org.au/training/calendar-view/event/364-emotional-int
 elligence-and-the-importance-of-emotion-coaching-for-kids-in-care-noble-pa
 rk
END:VEVENT
END:VCALENDAR
