BEGIN:VCALENDAR
VERSION:2.0
PRODID:-//https://carerkafe.org.au///NONSGML kigkonsult.se iCalcreator 2.10.15//
METHOD:PUBLISH
BEGIN:VEVENT
UID:20190301T214945AEDT-4360juVoOr@https://carerkafe.org.au/
DTSTAMP:20190301T104945Z
DESCRIPTION:&gt\;&gt\;Register Here&lt\;&lt\;\nWho is Nikara?\nFollow the s
 tory of Nikara and her non-Aboriginal foster parents as they learn how to 
 provide the right support\, respect her identity\, and keep her safe and c
 onnected to her family\, culture and community.\nThis program provides bot
 h Aboriginal and non-Aboriginal Carers with the knowledge to care and supp
 ort Aboriginal children.\nPresented by: VACCA\n\nHosted by: Berry Street\n
 \n https://carerkafe.org.au/training/calendar-view/event/365-nikara-s-jour
 ney-2-days-noble-park
DTSTART:20190513T233000Z
DTEND:20190515T060000Z
LOCATION:Berry Street Noble Park (Level 1/500 Princes Hwy\, Noble Park Nort
 h VIC 3174\, Australia)
SUMMARY:Nikara's Journey - 2 Days (Noble Park)
URL:https://carerkafe.org.au/training/calendar-view/event/365-nikara-s-jour
 ney-2-days-noble-park
END:VEVENT
END:VCALENDAR
