BEGIN:VCALENDAR
VERSION:2.0
PRODID:-//https://carerkafe.org.au///NONSGML kigkonsult.se iCalcreator 2.10.15//
METHOD:PUBLISH
BEGIN:VEVENT
UID:20190301T214214AEDT-8276Ssouta@https://carerkafe.org.au/
DTSTAMP:20190301T104214Z
DESCRIPTION:&gt\;&gt\;Register Here&lt\;&lt\;\nHow to be an Emotion Coach -
  just another string in your bow.  \nLearn how to recognise\, understand a
 nd respond to children’s emotions in an accepting and supportive manner.\n
 This approach helps children and young people to understand and manage the
 ir emotions and to use emotional awareness as a guide to solving their pro
 blems\, dealing with life’s frustrations and regulating their feelings.\nP
 resented by: Emotionwise (Joanie Bartolo)\nHosted by: Berry Street\n\n\n h
 ttps://carerkafe.org.au/training/calendar-view/event/366-emotional-intelli
 gence-and-the-importance-of-emotion-coaching-for-kids-in-care-noble-park
DTSTART:20190618T023000Z
DTEND:20190618T050000Z
LOCATION:Berry Street Noble Park (Level 1/500 Princes Hwy\, Noble Park Nort
 h VIC 3174\, Australia)
SUMMARY:Emotional Intelligence and the Importance of Emotion Coaching for K
 ids in Care (Noble Park)
URL:https://carerkafe.org.au/training/calendar-view/event/366-emotional-int
 elligence-and-the-importance-of-emotion-coaching-for-kids-in-care-noble-pa
 rk
END:VEVENT
END:VCALENDAR
