BEGIN:VCALENDAR
VERSION:2.0
PRODID:-//https://carerkafe.org.au///NONSGML kigkonsult.se iCalcreator 2.10.15//
METHOD:PUBLISH
BEGIN:VEVENT
UID:20190301T213750AEDT-9890nZrmHL@https://carerkafe.org.au/
DTSTAMP:20190301T103750Z
DESCRIPTION:&gt\;&gt\;Register Here&lt\;&lt\;\nHow children can be part of 
 two families and feel ok\nMany children and young people who live away fro
 m their biological families are able to ‘catch-up’ with them throughout th
 e year.\nCarers have an important role in supporting children and young pe
 ople with family access.&nbsp\;\nThis session will provide strategies to p
 repare and assist children and young people - so they can be part of 2 fam
 ilies and feel ok.\nPresented by: Australian Childhood Trauma Group\n\nHos
 ted by: Winda-Mara Aboriginal Corporation\n\n\n\n https://carerkafe.org.au
 /training/calendar-view/event/376-divided-loyalties-heywood
DTSTART:20190404T220000Z
DTEND:20190405T040000Z
LOCATION:Winda-Mara Aboriginal Corporation (21 Scott St\, Heywood VIC 3304\
 , Australia)
SUMMARY:Divided Loyalties (Heywood)
URL:https://carerkafe.org.au/training/calendar-view/event/376-divided-loyal
 ties-heywood
END:VEVENT
END:VCALENDAR
