BEGIN:VCALENDAR
VERSION:2.0
PRODID:-//https://carerkafe.org.au///NONSGML kigkonsult.se iCalcreator 2.10.15//
METHOD:PUBLISH
BEGIN:VEVENT
UID:20190301T214826AEDT-7075lx56k2@https://carerkafe.org.au/
DTSTAMP:20190301T104826Z
DESCRIPTION:&gt\;&gt\;Register Here&lt\;&lt\;\nFeeling out of your depth wi
 th aggressive behavior?  \nThis training will provide carers with knowledg
 e of how to prevent aggressive and violent situations\, and how to respond
  to them if they occur.\n Carers will:\n\ndiscover the key aspects of asse
 ssing aggressive behavior\nlearn how to prevent and respond to aggressive 
 and violent situations\nlearn practical strategies to manage aggressive in
 cidents\n\nPresented by: Australian Childhood Trauma Group\n\nHosted by: W
 inda-Mara Aboriginal Corporation\n\n https://carerkafe.org.au/training/cal
 endar-view/event/377-regulating-aggressive-and-violent-emotions-2-days-hey
 wood
DTSTART:20191204T220000Z
DTEND:20191206T040000Z
LOCATION:Winda-Mara Aboriginal Corporation (21 Scott St\, Heywood VIC 3304\
 , Australia)
SUMMARY:Regulating Aggressive and Violent Emotions (2 days) (Heywood)
URL:https://carerkafe.org.au/training/calendar-view/event/377-regulating-ag
 gressive-and-violent-emotions-2-days-heywood
END:VEVENT
END:VCALENDAR
