BEGIN:VCALENDAR
VERSION:2.0
PRODID:-//https://carerkafe.org.au///NONSGML kigkonsult.se iCalcreator 2.10.15//
METHOD:PUBLISH
BEGIN:VEVENT
UID:20190301T215108AEDT-9274L2u0mJ@https://carerkafe.org.au/
DTSTAMP:20190301T105108Z
DESCRIPTION:&gt\;&gt\;Register Here&lt\;&lt\;\nWho is Nikara?\nFollow the s
 tory of Nikara and her non-Aboriginal foster parents as they learn how to 
 provide the right support\, respect her identity\, and keep her safe and c
 onnected to her family\, culture and community.\nThis program provides bot
 h Aboriginal and non-Aboriginal Carers with the knowledge to care and supp
 ort Aboriginal children.\nPresented by: VACCA\n\nHosted by: Uniting\n\n\n 
 https://carerkafe.org.au/training/calendar-view/event/382-nikara-s-journey
 -2-days-sale
DTSTART:20190902T233000Z
DTEND:20190904T060000Z
LOCATION:Uniting (Sale) (126 Raymond St\, Sale VIC 3850\, Australia)
SUMMARY:Nikara's Journey - 2 Days (Sale)
URL:https://carerkafe.org.au/training/calendar-view/event/382-nikara-s-jour
 ney-2-days-sale
END:VEVENT
END:VCALENDAR
