BEGIN:VCALENDAR
VERSION:2.0
PRODID:-//https://carerkafe.org.au///NONSGML kigkonsult.se iCalcreator 2.10.15//
METHOD:PUBLISH
BEGIN:VEVENT
UID:20190301T211806AEDT-2318NVNv8v@https://carerkafe.org.au/
DTSTAMP:20190301T101806Z
DESCRIPTION:&gt\;&gt\;Register Here&lt\;&lt\;\nThis workshop explores the i
 mportance of being in ‘thinking mind’ mode when the children you care for 
 are struggling.\nIn doing so\, Carers can accurately assess what is happen
 ing in the internal world of the child or young person at that moment\, an
 d respond in ways that will assist to reduce trauma and feelings of low se
 lf esteem.\nPractical interventions will be discussed and demonstrated.\nP
 resented by: Australian Childhood Trauma Group\n\nHosted by: Anglicare\n\n
  https://carerkafe.org.au/training/calendar-view/event/384-thinking-mind-r
 eptilian-brain-bendigo
DTSTART:20190224T220000Z
DTEND:20190225T040000Z
LOCATION:Anglicare (Bendigo) (10 Mundy St\, Bendigo VIC 3550\, Australia)
SUMMARY:Thinking Mind\, Reptilian Brain (Bendigo)
URL:https://carerkafe.org.au/training/calendar-view/event/384-thinking-mind
 -reptilian-brain-bendigo
END:VEVENT
END:VCALENDAR
