BEGIN:VCALENDAR
VERSION:2.0
PRODID:-//https://carerkafe.org.au///NONSGML kigkonsult.se iCalcreator 2.10.15//
METHOD:PUBLISH
BEGIN:VEVENT
UID:20190301T213804AEDT-5858JeCGw5@https://carerkafe.org.au/
DTSTAMP:20190301T103804Z
DESCRIPTION:&gt\;&gt\;Register Here&lt\;&lt\;\nHow children can be part of 
 two families and feel ok\nMany children and young people who live away fro
 m their biological families are able to ‘catch-up’ with them throughout th
 e year.\nCarers have an important role in supporting children and young pe
 ople with family access.&nbsp\;\nThis session will provide strategies to p
 repare and assist children and young people - so they can be part of 2 fam
 ilies and feel ok.\nPresented by: Australian Childhood Trauma Group\n\nHos
 ted by: Anglicare\n\n\n\n\n https://carerkafe.org.au/training/calendar-vie
 w/event/385-divided-loyalties-bendigo
DTSTART:20190428T230000Z
DTEND:20190429T050000Z
LOCATION:Anglicare (Bendigo) (10 Mundy St\, Bendigo VIC 3550\, Australia)
SUMMARY:Divided Loyalties (Bendigo)
URL:https://carerkafe.org.au/training/calendar-view/event/385-divided-loyal
 ties-bendigo
END:VEVENT
END:VCALENDAR
